BEGIN:VCALENDAR
VERSION:2.0
PRODID:-//pretix//pretix.eu//
BEGIN:VTIMEZONE
TZID:Europe/Berlin
BEGIN:STANDARD
DTSTART:20001029T040000
RRULE:FREQ=YEARLY;BYDAY=-1SU;BYMONTH=10
TZNAME:CET
TZOFFSETFROM:+0200
TZOFFSETTO:+0100
END:STANDARD
BEGIN:DAYLIGHT
DTSTART:20000326T030000
RRULE:FREQ=YEARLY;BYDAY=-1SU;BYMONTH=3
TZNAME:CEST
TZOFFSETFROM:+0100
TZOFFSETTO:+0200
END:DAYLIGHT
END:VTIMEZONE
BEGIN:VEVENT
UID:pretix-tuttoblasmusik-150jahre-0@tuttoblasmusik.tmk-annaberg.at
DTSTART;TZID=Europe/Berlin:20250606T184500
DTEND;TZID=Europe/Berlin:20250608T020000
DESCRIPTION:Tickets: https://tuttoblasmusik.tmk-annaberg.at/150jahre/\nEinl
 ass: 06.06.2025 18:00\nVeranstalter: Trachtenmusikkapelle Annaberg
DTSTAMP:20260422T191227Z
LOCATION:5524 Annaberg - Alter Sportplatz
SUMMARY:Tutto Blasmusik - 150 Jahre TMK Annaberg
END:VEVENT
END:VCALENDAR
